BEGIN:VCALENDAR
VERSION:2.0
PRODID:-//jEvents 2.0 for Joomla//EN
CALSCALE:GREGORIAN
METHOD:PUBLISH
BEGIN:VTIMEZONE
TZID:Europe/Amsterdam
BEGIN:STANDARD
DTSTART:20250117T100000
RDATE:20250330T030000
TZOFFSETFROM:+0200
TZOFFSETTO:+0100
TZNAME:Europe/Amsterdam CET
END:STANDARD
BEGIN:STANDARD
DTSTART:20251026T020000
RDATE:20260329T030000
TZOFFSETFROM:+0200
TZOFFSETTO:+0100
TZNAME:Europe/Amsterdam CET
END:STANDARD
BEGIN:STANDARD
DTSTART:20261025T020000
RDATE:20270328T030000
TZOFFSETFROM:+0200
TZOFFSETTO:+0100
TZNAME:Europe/Amsterdam CET
END:STANDARD
BEGIN:STANDARD
DTSTART:20271031T020000
RDATE:20280326T030000
TZOFFSETFROM:+0200
TZOFFSETTO:+0100
TZNAME:Europe/Amsterdam CET
END:STANDARD
BEGIN:STANDARD
DTSTART:20281029T020000
RDATE:20290325T030000
TZOFFSETFROM:+0200
TZOFFSETTO:+0100
TZNAME:Europe/Amsterdam CET
END:STANDARD
BEGIN:STANDARD
DTSTART:20291028T020000
RDATE:20300331T030000
TZOFFSETFROM:+0200
TZOFFSETTO:+0100
TZNAME:Europe/Amsterdam CET
END:STANDARD
BEGIN:STANDARD
DTSTART:20301027T020000
RDATE:20310330T030000
TZOFFSETFROM:+0200
TZOFFSETTO:+0100
TZNAME:Europe/Amsterdam CET
END:STANDARD
BEGIN:STANDARD
DTSTART:20311026T020000
RDATE:20320328T030000
TZOFFSETFROM:+0200
TZOFFSETTO:+0100
TZNAME:Europe/Amsterdam CET
END:STANDARD
BEGIN:DAYLIGHT
DTSTART:20250330T030000
RDATE:20251026T020000
TZOFFSETFROM:+0100
TZOFFSETTO:+0200
TZNAME:Europe/Amsterdam CEST
END:DAYLIGHT
BEGIN:DAYLIGHT
DTSTART:20260329T030000
RDATE:20261025T020000
TZOFFSETFROM:+0100
TZOFFSETTO:+0200
TZNAME:Europe/Amsterdam CEST
END:DAYLIGHT
BEGIN:DAYLIGHT
DTSTART:20270328T030000
RDATE:20271031T020000
TZOFFSETFROM:+0100
TZOFFSETTO:+0200
TZNAME:Europe/Amsterdam CEST
END:DAYLIGHT
BEGIN:DAYLIGHT
DTSTART:20280326T030000
RDATE:20281029T020000
TZOFFSETFROM:+0100
TZOFFSETTO:+0200
TZNAME:Europe/Amsterdam CEST
END:DAYLIGHT
BEGIN:DAYLIGHT
DTSTART:20290325T030000
RDATE:20291028T020000
TZOFFSETFROM:+0100
TZOFFSETTO:+0200
TZNAME:Europe/Amsterdam CEST
END:DAYLIGHT
BEGIN:DAYLIGHT
DTSTART:20300331T030000
RDATE:20301027T020000
TZOFFSETFROM:+0100
TZOFFSETTO:+0200
TZNAME:Europe/Amsterdam CEST
END:DAYLIGHT
BEGIN:DAYLIGHT
DTSTART:20310330T030000
RDATE:20311026T020000
TZOFFSETFROM:+0100
TZOFFSETTO:+0200
TZNAME:Europe/Amsterdam CEST
END:DAYLIGHT
END:VTIMEZONE
BEGIN:VEVENT
UID:7c094f47-b5d0-d852-92d0-c42d1f9b39bd
CATEGORIES:Viering
CREATED:20251229T101208
SUMMARY:Ochtendviering: Afscheid en bevestiging ambtsdragers, Week van Gebed
LOCATION:Grote Kerk
URL;VALUE=URI:https://pg-elst.nl/actueel/agenda/evenementdetail/6989/-/ochtendviering-afs
 cheid-en-bevestiging-ambtsdragers,-week-van-gebed?tmpl=component
DESCRIPTION:Datum: zondag 18 januari 2026\nPlaats: Grote Kerk\nOpmerking: Afscheid en b
 evestiging ambtsdragers, Week van Gebed\nVoorganger: Ds. Aafke Zaal\nOrgani
 st: Jaap Jansma\nMmv: \nLiturgische kleur: rood (https://www.pg-elst.nl/com
 ponent/content/article/kleur-in-de-kerk?catid=47&amp;Itemid=101)\nCollecte 
 1: Protestantse kerk-Missionair werk- Kerkzijn buiten de gebaande paden\nCo
 llecte 2: kerkelijke activiteiten\nCollecte 3: Onderhoud gebouwen\n\n		Na d
 e dienst is er gelegenheid om koffie of thee te drinken in De Ruimte (https
 ://pg-elst.nl/gebouwen/de-ruimte).\n\n\n This event was imported from: http
 s://pg-elst.nl/actueel/agenda/evenementdetail/6989/-/ochtendviering-afschei
 d-en-bevestiging-ambtsdragers,-week-van-gebed?tmpl=component (https://pg-el
 st.nl/actueel/agenda/evenementdetail/6989/-/ochtendviering-afscheid-en-beve
 stiging-ambtsdragers,-week-van-gebed?tmpl=component)
X-ALT-DESC;FMTTYPE=text/html:<b>Datum:</b> zondag 18 januari 2026<br /><b>Plaats:</b> Grote Kerk<br /><b
 >Opmerking:</b> Afscheid en bevestiging ambtsdragers, Week van Gebed<br /><
 b>Voorganger:</b> Ds. Aafke Zaal<br /><b>Organist:</b> Jaap Jansma<br /><b>
 Mmv:</b> <br /><b>Liturgische kleur:</b> <a href="https://www.pg-elst.nl/co
 mponent/content/article/kleur-in-de-kerk?catid=47&amp;Itemid=101" target="_
 top">rood</a><br /><b>Collecte 1:</b> Protestantse kerk-Missionair werk- Ke
 rkzijn buiten de gebaande paden<br /><b>Collecte 2:</b> kerkelijke activite
 iten<br /><b>Collecte 3:</b> Onderhoud gebouwen<br /><br /><div>		Na de die
 nst is er gelegenheid om koffie of thee te drinken in <a href="https://pg-e
 lst.nl/gebouwen/de-ruimte" target="_top">De Ruimte</a>.<br /></div><br /><b
 r /> <a href="https://pg-elst.nl/actueel/agenda/evenementdetail/6989/-/ocht
 endviering-afscheid-en-bevestiging-ambtsdragers,-week-van-gebed?tmpl=compon
 ent">This event was imported from: https://pg-elst.nl/actueel/agenda/evenem
 entdetail/6989/-/ochtendviering-afscheid-en-bevestiging-ambtsdragers,-week-
 van-gebed?tmpl=component</a>CONTACT:Ds. Aafke Zaal
DTSTAMP:20260420T205951
DTSTART;TZID=Europe/Amsterdam:20260118T100000
DTEND;TZID=Europe/Amsterdam:20260118T111500
SEQUENCE:0
TRANSP:OPAQUE
END:VEVENT
END:VCALENDAR